BEGIN:VCALENDAR
VERSION:2.0
PRODID:-//Corporate Casual - ECPv6.15.17.1//NONSGML v1.0//EN
CALSCALE:GREGORIAN
METHOD:PUBLISH
X-ORIGINAL-URL:https://corporatecasual.org
X-WR-CALDESC:Events for Corporate Casual
REFRESH-INTERVAL;VALUE=DURATION:PT1H
X-Robots-Tag:noindex
X-PUBLISHED-TTL:PT1H
BEGIN:VTIMEZONE
TZID:America/Chicago
BEGIN:DAYLIGHT
TZOFFSETFROM:-0600
TZOFFSETTO:-0500
TZNAME:CDT
DTSTART:20240310T080000
END:DAYLIGHT
BEGIN:STANDARD
TZOFFSETFROM:-0500
TZOFFSETTO:-0600
TZNAME:CST
DTSTART:20241103T070000
END:STANDARD
BEGIN:DAYLIGHT
TZOFFSETFROM:-0600
TZOFFSETTO:-0500
TZNAME:CDT
DTSTART:20250309T080000
END:DAYLIGHT
BEGIN:STANDARD
TZOFFSETFROM:-0500
TZOFFSETTO:-0600
TZNAME:CST
DTSTART:20251102T070000
END:STANDARD
BEGIN:DAYLIGHT
TZOFFSETFROM:-0600
TZOFFSETTO:-0500
TZNAME:CDT
DTSTART:20260308T080000
END:DAYLIGHT
BEGIN:STANDARD
TZOFFSETFROM:-0500
TZOFFSETTO:-0600
TZNAME:CST
DTSTART:20261101T070000
END:STANDARD
END:VTIMEZONE
BEGIN:VEVENT
DTSTART;TZID=America/Chicago:20250624T170000
DTEND;TZID=America/Chicago:20250624T190000
DTSTAMP:20260425T103759
CREATED:20250610T030351Z
LAST-MODIFIED:20250610T030623Z
UID:11988-1750784400-1750791600@corporatecasual.org
SUMMARY:Boost Your Safety IQ with Captain Cathy
DESCRIPTION:Awareness is Your Superpower: Personal Safety in Business & Life \nJoin us for a powerhouse presentation by Captain Cathy Trimboli that’ll sharpen your safety instincts and supercharge your professional edge. \nLife moves fast\, and distractions can cost you. Captain Cathy\, a retired Milwaukee County Sheriff’s Captain with 30+ years in law enforcement\, will deliver no-nonsense\, actionable strategies to boost your awareness\, protect your business\, and build unshakable confidence. Her dynamic style and real-world insights will leave you ready to tackle risks at work and beyond. \nDon’t miss this opportunity to gain valuable insights and network with fellow professionals!
URL:https://corporatecasual.org/event/boost-your-safety-iq-with-captain-cathy/
LOCATION:Wisconsin Club\, 900 W Wisconsin Ave\, Milwaukee\, 53233\, United States
ATTACH;FMTTYPE=image/jpeg:https://corporatecasual.org/wp-content/uploads/2025/06/Cathy-Trimboli_v2-e1749524203849.jpg
END:VEVENT
END:VCALENDAR