BEGIN:VCALENDAR
VERSION:2.0
PRODID:-//Corporate Casual - ECPv6.15.17.1//NONSGML v1.0//EN
CALSCALE:GREGORIAN
METHOD:PUBLISH
X-WR-CALNAME:Corporate Casual
X-ORIGINAL-URL:https://corporatecasual.org
X-WR-CALDESC:Events for Corporate Casual
REFRESH-INTERVAL;VALUE=DURATION:PT1H
X-Robots-Tag:noindex
X-PUBLISHED-TTL:PT1H
BEGIN:VTIMEZONE
TZID:America/Chicago
BEGIN:DAYLIGHT
TZOFFSETFROM:-0600
TZOFFSETTO:-0500
TZNAME:CDT
DTSTART:20250309T080000
END:DAYLIGHT
BEGIN:STANDARD
TZOFFSETFROM:-0500
TZOFFSETTO:-0600
TZNAME:CST
DTSTART:20251102T070000
END:STANDARD
BEGIN:DAYLIGHT
TZOFFSETFROM:-0600
TZOFFSETTO:-0500
TZNAME:CDT
DTSTART:20260308T080000
END:DAYLIGHT
BEGIN:STANDARD
TZOFFSETFROM:-0500
TZOFFSETTO:-0600
TZNAME:CST
DTSTART:20261101T070000
END:STANDARD
BEGIN:DAYLIGHT
TZOFFSETFROM:-0600
TZOFFSETTO:-0500
TZNAME:CDT
DTSTART:20270314T080000
END:DAYLIGHT
BEGIN:STANDARD
TZOFFSETFROM:-0500
TZOFFSETTO:-0600
TZNAME:CST
DTSTART:20271107T070000
END:STANDARD
END:VTIMEZONE
BEGIN:VEVENT
DTSTART;TZID=America/Chicago:20260526T170000
DTEND;TZID=America/Chicago:20260526T190000
DTSTAMP:20260421T210742
CREATED:20260418T174429Z
LAST-MODIFIED:20260418T175607Z
UID:59564-1779814800-1779822000@corporatecasual.org
SUMMARY:Rethink 794: A Bold Vision for Milwaukee’s Future
DESCRIPTION:The I-794 Lake Interchange is one of the most visible and debated infrastructure projects in Southeastern Wisconsin. Join Corporate Casual as we welcome back Taylor Korslin of the Rethink 794 coalition for an essential update on the “Highway-to-Boulevard” progress. Discover the compelling economic case for removing the elevated infrastructure and how this transformation could unlock prime real estate for housing\, business\, and recreation—ultimately bridging the gap between our downtown and the lakefront.
URL:https://corporatecasual.org/event/rethink-794-a-bold-vision-for-milwaukees-future/
LOCATION:Wisconsin Club\, 900 W Wisconsin Ave\, Milwaukee\, 53233\, United States
ATTACH;FMTTYPE=image/png:https://corporatecasual.org/wp-content/uploads/2022/11/Rethink-794-Circle-Logo-e1668652662178.png
END:VEVENT
END:VCALENDAR