BEGIN:VCALENDAR
VERSION:2.0
PRODID:-//Corporate Casual - ECPv6.15.17.1//NONSGML v1.0//EN
CALSCALE:GREGORIAN
METHOD:PUBLISH
X-ORIGINAL-URL:https://corporatecasual.org
X-WR-CALDESC:Events for Corporate Casual
REFRESH-INTERVAL;VALUE=DURATION:PT1H
X-Robots-Tag:noindex
X-PUBLISHED-TTL:PT1H
BEGIN:VTIMEZONE
TZID:America/Chicago
BEGIN:DAYLIGHT
TZOFFSETFROM:-0600
TZOFFSETTO:-0500
TZNAME:CDT
DTSTART:20240310T080000
END:DAYLIGHT
BEGIN:STANDARD
TZOFFSETFROM:-0500
TZOFFSETTO:-0600
TZNAME:CST
DTSTART:20241103T070000
END:STANDARD
BEGIN:DAYLIGHT
TZOFFSETFROM:-0600
TZOFFSETTO:-0500
TZNAME:CDT
DTSTART:20250309T080000
END:DAYLIGHT
BEGIN:STANDARD
TZOFFSETFROM:-0500
TZOFFSETTO:-0600
TZNAME:CST
DTSTART:20251102T070000
END:STANDARD
BEGIN:DAYLIGHT
TZOFFSETFROM:-0600
TZOFFSETTO:-0500
TZNAME:CDT
DTSTART:20260308T080000
END:DAYLIGHT
BEGIN:STANDARD
TZOFFSETFROM:-0500
TZOFFSETTO:-0600
TZNAME:CST
DTSTART:20261101T070000
END:STANDARD
END:VTIMEZONE
BEGIN:VEVENT
DTSTART;TZID=America/Chicago:20250422T170000
DTEND;TZID=America/Chicago:20250422T190000
DTSTAMP:20260421T034259
CREATED:20250308T171414Z
LAST-MODIFIED:20250308T171414Z
UID:10933-1745341200-1745348400@corporatecasual.org
SUMMARY:April Event - Investigative Reporter\, Bryan Polcyn\, WITI-TV FOX6 News
DESCRIPTION:Join us for a compelling discussion with WITI-TV\, FOX6 News Investigative Reporter\, Bryan Polcyn. Bryan will discuss how investigative reporting works\, share some compelling stories\, including the changing landscape of local news reporting.
URL:https://corporatecasual.org/event/april-event-investigative-reporter-bryan-polcyn-witi-tv-fox6-news/
LOCATION:Wisconsin Club\, 900 W Wisconsin Ave\, Milwaukee\, 53233\, United States
ATTACH;FMTTYPE=image/webp:https://corporatecasual.org/wp-content/uploads/2025/03/Polcyn_CutOut_512-e1741453301167.webp
END:VEVENT
END:VCALENDAR